BEGIN:VCALENDAR
VERSION:2.0
PRODID:-//SAP NS2 - ECPv6.15.19//NONSGML v1.0//EN
CALSCALE:GREGORIAN
METHOD:PUBLISH
X-WR-CALNAME:SAP NS2
X-ORIGINAL-URL:https://sapns2.com
X-WR-CALDESC:Events for SAP NS2
REFRESH-INTERVAL;VALUE=DURATION:PT1H
X-Robots-Tag:noindex
X-PUBLISHED-TTL:PT1H
BEGIN:VTIMEZONE
TZID:America/New_York
BEGIN:DAYLIGHT
TZOFFSETFROM:-0500
TZOFFSETTO:-0400
TZNAME:EDT
DTSTART:20250309T070000
END:DAYLIGHT
BEGIN:STANDARD
TZOFFSETFROM:-0400
TZOFFSETTO:-0500
TZNAME:EST
DTSTART:20251102T060000
END:STANDARD
BEGIN:DAYLIGHT
TZOFFSETFROM:-0500
TZOFFSETTO:-0400
TZNAME:EDT
DTSTART:20260308T070000
END:DAYLIGHT
BEGIN:STANDARD
TZOFFSETFROM:-0400
TZOFFSETTO:-0500
TZNAME:EST
DTSTART:20261101T060000
END:STANDARD
BEGIN:DAYLIGHT
TZOFFSETFROM:-0500
TZOFFSETTO:-0400
TZNAME:EDT
DTSTART:20270314T070000
END:DAYLIGHT
BEGIN:STANDARD
TZOFFSETFROM:-0400
TZOFFSETTO:-0500
TZNAME:EST
DTSTART:20271107T060000
END:STANDARD
END:VTIMEZONE
BEGIN:VEVENT
DTSTART;VALUE=DATE:20260504
DTEND;VALUE=DATE:20260508
DTSTAMP:20260420T053103
CREATED:20260312T174823Z
LAST-MODIFIED:20260312T174951Z
UID:20503-1777852800-1778198399@sapns2.com
SUMMARY:2026 NLIT Summit
DESCRIPTION:The NLIT Summit is sponsored by the NLIT Society\, a professional society founded to facilitate the exchange of best practices and ideas among IT and Cybersecurity professionals within the DOE complex\, strengthen the infrastructure\, and identify efficiencies within the DOE laboratory system. The Summit facilitates sharing information regarding all aspects of IT and Cybersecurity operations\, technology\, policies\, and practices in support of research conducted at the Laboratories. It is open to all personnel in the IT and Cybersecurity fields working at Laboratories and Plants affiliated with government funded activities\, as well as Federal government employees in the IT or Cybersecurity fields that work at agencies associated with the participating Laboratories. \nThe Summit consists of presentations\, Community of Interest Network (COIN) collaboration sessions\, panel discussions\, tutorials\, and technology demonstrations on a variety of topics of current interest to the IT community within DOE. There is an emphasis on providing opportunities for active participation and networking between attendees. Best practices\, strategies\, methodologies\, implementations\, lessons learned\, innovative solutions\, and emerging topics within the DOE community are shared during the Summit’s many sessions and events.
URL:https://sapns2.com/event-old/2026-nlit-summit/
LOCATION:Kansas City Convention Center Bartle Hall\, 301 W. 13 th Street\, Kansas City\, MO\, 64105\, United States
ATTACH;FMTTYPE=image/png:https://sapns2.com/wp-content/uploads/2026/03/NLIT-Icon-e1773337780284.png
END:VEVENT
END:VCALENDAR