BEGIN:VCALENDAR
VERSION:2.0
PRODID:-//SAP NS2 - ECPv6.15.19//NONSGML v1.0//EN
CALSCALE:GREGORIAN
METHOD:PUBLISH
X-ORIGINAL-URL:https://sapns2.com
X-WR-CALDESC:Events for SAP NS2
REFRESH-INTERVAL;VALUE=DURATION:PT1H
X-Robots-Tag:noindex
X-PUBLISHED-TTL:PT1H
BEGIN:VTIMEZONE
TZID:America/New_York
BEGIN:DAYLIGHT
TZOFFSETFROM:-0500
TZOFFSETTO:-0400
TZNAME:EDT
DTSTART:20250309T070000
END:DAYLIGHT
BEGIN:STANDARD
TZOFFSETFROM:-0400
TZOFFSETTO:-0500
TZNAME:EST
DTSTART:20251102T060000
END:STANDARD
BEGIN:DAYLIGHT
TZOFFSETFROM:-0500
TZOFFSETTO:-0400
TZNAME:EDT
DTSTART:20260308T070000
END:DAYLIGHT
BEGIN:STANDARD
TZOFFSETFROM:-0400
TZOFFSETTO:-0500
TZNAME:EST
DTSTART:20261101T060000
END:STANDARD
BEGIN:DAYLIGHT
TZOFFSETFROM:-0500
TZOFFSETTO:-0400
TZNAME:EDT
DTSTART:20270314T070000
END:DAYLIGHT
BEGIN:STANDARD
TZOFFSETFROM:-0400
TZOFFSETTO:-0500
TZNAME:EST
DTSTART:20271107T060000
END:STANDARD
END:VTIMEZONE
BEGIN:VEVENT
DTSTART;VALUE=DATE:20260422
DTEND;VALUE=DATE:20260425
DTSTAMP:20260419T173239
CREATED:20260114T031329Z
LAST-MODIFIED:20260114T031329Z
UID:10000025-1776816000-1777075199@sapns2.com
SUMMARY:Google Cloud Next 2026
DESCRIPTION:Join us to explore the AI and cloud technology\, tools\, and insights that are making new opportunities possible – even ones that once seemed impossible.
URL:https://sapns2.com/event-old/google-cloud-next-2026/
LOCATION:Mandalay Bay Convention Center\, Las Vegas\, 3950 S Las Vegas Blvd\, Las Vegas\, NV\, 89119\, United States
ATTACH;FMTTYPE=image/webp:https://sapns2.com/wp-content/uploads/2026/01/Mandalay-Bay-LV-Image.webp
END:VEVENT
END:VCALENDAR