BEGIN:VCALENDAR
VERSION:2.0
PRODID:-//SAP NS2 - ECPv6.15.19//NONSGML v1.0//EN
CALSCALE:GREGORIAN
METHOD:PUBLISH
X-ORIGINAL-URL:https://sapns2.com
X-WR-CALDESC:Events for SAP NS2
REFRESH-INTERVAL;VALUE=DURATION:PT1H
X-Robots-Tag:noindex
X-PUBLISHED-TTL:PT1H
BEGIN:VTIMEZONE
TZID:America/New_York
BEGIN:DAYLIGHT
TZOFFSETFROM:-0500
TZOFFSETTO:-0400
TZNAME:EDT
DTSTART:20250309T070000
END:DAYLIGHT
BEGIN:STANDARD
TZOFFSETFROM:-0400
TZOFFSETTO:-0500
TZNAME:EST
DTSTART:20251102T060000
END:STANDARD
BEGIN:DAYLIGHT
TZOFFSETFROM:-0500
TZOFFSETTO:-0400
TZNAME:EDT
DTSTART:20260308T070000
END:DAYLIGHT
BEGIN:STANDARD
TZOFFSETFROM:-0400
TZOFFSETTO:-0500
TZNAME:EST
DTSTART:20261101T060000
END:STANDARD
BEGIN:DAYLIGHT
TZOFFSETFROM:-0500
TZOFFSETTO:-0400
TZNAME:EDT
DTSTART:20270314T070000
END:DAYLIGHT
BEGIN:STANDARD
TZOFFSETFROM:-0400
TZOFFSETTO:-0500
TZNAME:EST
DTSTART:20271107T060000
END:STANDARD
END:VTIMEZONE
BEGIN:VEVENT
DTSTART;VALUE=DATE:20260428
DTEND;VALUE=DATE:20260430
DTSTAMP:20260419T160123
CREATED:20260114T031934Z
LAST-MODIFIED:20260312T173553Z
UID:10000027-1777334400-1777507199@sapns2.com
SUMMARY:2026 AFCEA Spring Intelligence Symposium
DESCRIPTION:AFCEA’s Spring Intelligence Symposium returns to the NGA Campus East in Springfield\, VA on April 28-29\, 2026. This classified TS//SI/TK//NOFORN two-day flagship intelligence event is a forum for Intelligence Community (IC) professionals and an ideal venue for networking\, professional development and learning about the nation’s hardest intelligence challenges. \nThe 2026 Spring Intelligence Symposium agenda is designed to spark candid dialogue at the intersection of national security\, emerging technology\, and economic power\, bringing together decision-makers from across government and industry who rarely convene in the same room\, particularly for a classified dialogue.
URL:https://sapns2.com/event-old/2026-spring-intelligence-symposium/
LOCATION:NGA Campus East\, 7500 GEOINT Dr.\, Springfield\, VA\, 22150\, United States
ATTACH;FMTTYPE=image/jpeg:https://sapns2.com/wp-content/uploads/2026/01/NGA-Campus-East-image.jpg
END:VEVENT
END:VCALENDAR